BEGIN:VCALENDAR
VERSION:2.0
PRODID:-//Contratero//ES
CALSCALE:GREGORIAN
METHOD:PUBLISH
BEGIN:VEVENT
UID:A2025/001053@contratero.es
DTSTAMP:20260422T183123Z
DTSTART:20250213T235959
DTEND:20250214T005959
SUMMARY:Cierre: Renovación de las licencias de suscripción anual d
DESCRIPTION:Renovación de las licencias de suscripción anual del producto software Adobe Acrobat Pro para la Consejería de Educación.\\n\\nOrganismo: Consejería de Educación de la Junta de Castilla y León\\n\\nVer en Contratero: https://contratero.es/contracts/A2025/001053
URL:https://contratero.es/contracts/A2025/001053
STATUS:CONFIRMED
BEGIN:VALARM
TRIGGER:-P1D
ACTION:DISPLAY
DESCRIPTION:Recordatorio: Renovación de las licencias de
END:VALARM
END:VEVENT
END:VCALENDAR