BEGIN:VCALENDAR
VERSION:2.0
PRODID:-//Contratero//ES
CALSCALE:GREGORIAN
METHOD:PUBLISH
BEGIN:VEVENT
UID:A2025/001057@contratero.es
DTSTAMP:20260422T183123Z
DTSTART:20250212T235959
DTEND:20250213T005959
SUMMARY:Cierre: Renovación del contrato de suscripción anual de 20
DESCRIPTION:Renovación del contrato de suscripción anual de 20 licencias del software AutoCAD REVIT LT suite para las Direcciones Provinciales de Educación.\\n\\nOrganismo: Consejería de Educación de la Junta de Castilla y León\\n\\nVer en Contratero: https://contratero.es/contracts/A2025/001057
URL:https://contratero.es/contracts/A2025/001057
STATUS:CONFIRMED
BEGIN:VALARM
TRIGGER:-P1D
ACTION:DISPLAY
DESCRIPTION:Recordatorio: Renovación del contrato de sus
END:VALARM
END:VEVENT
END:VCALENDAR