BEGIN:VCALENDAR
VERSION:2.0
PRODID:-//Contratero//ES
CALSCALE:GREGORIAN
METHOD:PUBLISH
BEGIN:VEVENT
UID:A2025/002488@contratero.es
DTSTAMP:20260420T043717Z
DTSTART:20250326T235959
DTEND:20250327T005959
SUMMARY:Cierre: Prestación del servicio de mantenimiento y mejora 
DESCRIPTION:Prestación del servicio de mantenimiento y mejora de software de los sistemas de información GESTEVAL y BDE disponibles en ACSUCYL para realizar la gestión de las evaluaciones relativas a los procesos...\\n\\nOrganismo: Dirección de la Agencia para la Calidad del Sistema Universitario de Castilla y León\\n\\nVer en Contratero: https://contratero.es/contracts/A2025/002488
URL:https://contratero.es/contracts/A2025/002488
STATUS:CONFIRMED
BEGIN:VALARM
TRIGGER:-P1D
ACTION:DISPLAY
DESCRIPTION:Recordatorio: Prestación del servicio de man
END:VALARM
END:VEVENT
END:VCALENDAR