BEGIN:VCALENDAR
VERSION:2.0
PRODID:-//Contratero//ES
CALSCALE:GREGORIAN
METHOD:PUBLISH
BEGIN:VEVENT
UID:A2025/002957@contratero.es
DTSTAMP:20260420T095804Z
DTSTART:20250404T235959
DTEND:20250405T005959
SUMMARY:Cierre: Prestación del servicio de mantenimiento y mejora 
DESCRIPTION:Prestación del servicio de mantenimiento y mejora de software del sistema de información INDCALBI disponible en ACSUCYL para realizar la gestión de los indicadores de calidad relativos al sistema de g...\\n\\nOrganismo: Dirección de la Agencia para la Calidad del Sistema Universitario de Castilla y León\\n\\nVer en Contratero: https://contratero.es/contracts/A2025/002957
URL:https://contratero.es/contracts/A2025/002957
STATUS:CONFIRMED
BEGIN:VALARM
TRIGGER:-P1D
ACTION:DISPLAY
DESCRIPTION:Recordatorio: Prestación del servicio de man
END:VALARM
END:VEVENT
END:VCALENDAR