BEGIN:VCALENDAR
VERSION:2.0
PRODID:-//Contratero//ES
CALSCALE:GREGORIAN
METHOD:PUBLISH
BEGIN:VEVENT
UID:A2025/009232@contratero.es
DTSTAMP:20260425T210214Z
DTSTART:20250617T235959
DTEND:20250618T005959
SUMMARY:Cierre: Renovación de la suscripción anual a la plataforma
DESCRIPTION:Renovación de la suscripción anual a la plataforma software de diseño gráfico Figma que en la actualidad tiene disponible el servicio de Informática de la Consejería de Educación.\\n\\nOrganismo: Consejería de Educación de la Junta de Castilla y León\\n\\nVer en Contratero: https://contratero.es/contracts/A2025/009232
URL:https://contratero.es/contracts/A2025/009232
STATUS:CONFIRMED
BEGIN:VALARM
TRIGGER:-P1D
ACTION:DISPLAY
DESCRIPTION:Recordatorio: Renovación de la suscripción a
END:VALARM
END:VEVENT
END:VCALENDAR