BEGIN:VCALENDAR
VERSION:2.0
PRODID:-//Contratero//ES
CALSCALE:GREGORIAN
METHOD:PUBLISH
BEGIN:VEVENT
UID:A2025/012599@contratero.es
DTSTAMP:20260420T032629Z
DTSTART:20251009T235959
DTEND:20251010T005959
SUMMARY:Cierre: Servicios de desarrollo de la inteligencia artific
DESCRIPTION:Servicios de desarrollo de la inteligencia artificial aplicable a los sistemas de gestión de patrimonio cultural\, incluyendo el diseño de una plataforma escalable Data Mining/Warehouse. KHN\, RETECH\, P...\\n\\nOrganismo: Consejería de Cultura\, Turismo y Deporte de la Junta de Castilla y León\\n\\nVer en Contratero: https://contratero.es/contracts/A2025/012599
URL:https://contratero.es/contracts/A2025/012599
STATUS:CONFIRMED
BEGIN:VALARM
TRIGGER:-P1D
ACTION:DISPLAY
DESCRIPTION:Recordatorio: Servicios de desarrollo de la 
END:VALARM
END:VEVENT
END:VCALENDAR