BEGIN:VCALENDAR
VERSION:2.0
PRODID:-//Contratero//ES
CALSCALE:GREGORIAN
METHOD:PUBLISH
BEGIN:VEVENT
UID:A21-0425@contratero.es
DTSTAMP:20260422T102648Z
DTSTART:20250514T235959
DTEND:20250515T005959
SUMMARY:Cierre: Adquisición de licencias de software Atlassian XRA
DESCRIPTION:Adquisición de licencias de software Atlassian XRAY Test Management for JIRA\\n\\nOrganismo: Jefatura de Unidad de Medios Internos -Área de Compras de la Compañía Española de Seguros de Crédito a la Exportación S.A.\, S.M.E. (CESCE)\\n\\nVer en Contratero: https://contratero.es/contracts/A21-0425
URL:https://contratero.es/contracts/A21-0425
STATUS:CONFIRMED
BEGIN:VALARM
TRIGGER:-P1D
ACTION:DISPLAY
DESCRIPTION:Recordatorio: Adquisición de licencias de so
END:VALARM
END:VEVENT
END:VCALENDAR