BEGIN:VCALENDAR
VERSION:2.0
PRODID:-//Contratero//ES
CALSCALE:GREGORIAN
METHOD:PUBLISH
BEGIN:VEVENT
UID:A25-0722@contratero.es
DTSTAMP:20260422T130434Z
DTSTART:20220831T235959
DTEND:20220901T005959
SUMMARY:Cierre: Realización de todos los trabajos necesarios para 
DESCRIPTION:Realización de todos los trabajos necesarios para trasladar los sistemas actuales de CESCE desde el entorno Mainframe IBM z/OS a una nueva ubicación en entornos Linux\, permitiendo así dejar de utiliza...\\n\\nOrganismo: Jefatura de Unidad de Medios Internos -Área de Compras de la Compañía Española de Seguros de Crédito a la Exportación S.A.\, S.M.E. (CESCE)\\n\\nVer en Contratero: https://contratero.es/contracts/A25-0722
URL:https://contratero.es/contracts/A25-0722
STATUS:CONFIRMED
BEGIN:VALARM
TRIGGER:-P1D
ACTION:DISPLAY
DESCRIPTION:Recordatorio: Realización de todos los traba
END:VALARM
END:VEVENT
END:VCALENDAR