BEGIN:VCALENDAR
VERSION:2.0
PRODID:-//Contratero//ES
CALSCALE:GREGORIAN
METHOD:PUBLISH
BEGIN:VEVENT
UID:A31-1220@contratero.es
DTSTAMP:20260422T160756Z
DTSTART:20210111T235959
DTEND:20210112T005959
SUMMARY:Cierre: Contratación de un servicio de gestión y mantenimi
DESCRIPTION:Contratación de un servicio de gestión y mantenimiento de las aplicaciones SAP que dan servicio a CESCE y a sus\ncompañías del grupo.\\n\\nOrganismo: Jefatura de Unidad de Medios Internos -Área de Compras de la Compañía Española de Seguros de Crédito a la Exportación S.A.\, S.M.E. (CESCE)\\n\\nVer en Contratero: https://contratero.es/contracts/A31-1220
URL:https://contratero.es/contracts/A31-1220
STATUS:CONFIRMED
BEGIN:VALARM
TRIGGER:-P1D
ACTION:DISPLAY
DESCRIPTION:Recordatorio: Contratación de un servicio de
END:VALARM
END:VEVENT
END:VCALENDAR