BEGIN:VCALENDAR
VERSION:2.0
PRODID:-//Contratero//ES
CALSCALE:GREGORIAN
METHOD:PUBLISH
BEGIN:VEVENT
UID:A31/2021/41@contratero.es
DTSTAMP:20260424T184223Z
DTSTART:20210721T235959
DTEND:20210722T005959
SUMMARY:Cierre: Servicio de mantenimiento (correctivo\, preventivo 
DESCRIPTION:Servicio de mantenimiento (correctivo\, preventivo y evolutivo) y actualización del dispositivo del corrección de pruebas selectivas del Ayuntamiento de A Coruña y de asistencia técnica y consultoría p...\\n\\nOrganismo: Junta de Gobierno del Ayuntamiento de A Coruña\\n\\nVer en Contratero: https://contratero.es/contracts/A31/2021/41
URL:https://contratero.es/contracts/A31/2021/41
STATUS:CONFIRMED
BEGIN:VALARM
TRIGGER:-P1D
ACTION:DISPLAY
DESCRIPTION:Recordatorio: Servicio de mantenimiento (cor
END:VALARM
END:VEVENT
END:VCALENDAR