BEGIN:VCALENDAR
VERSION:2.0
PRODID:-//Contratero//ES
CALSCALE:GREGORIAN
METHOD:PUBLISH
BEGIN:VEVENT
UID:A31/2021/51@contratero.es
DTSTAMP:20260424T221530Z
DTSTART:20210729T235959
DTEND:20210730T005959
SUMMARY:Cierre: Contratación del servicio de mantenimiento del sof
DESCRIPTION:Contratación del servicio de mantenimiento del software knosys de base de datos de gestión del 010 y de reclamaciones patrimoniales\\n\\nOrganismo: Junta de Gobierno del Ayuntamiento de A Coruña\\n\\nVer en Contratero: https://contratero.es/contracts/A31/2021/51
URL:https://contratero.es/contracts/A31/2021/51
STATUS:CONFIRMED
BEGIN:VALARM
TRIGGER:-P1D
ACTION:DISPLAY
DESCRIPTION:Recordatorio: Contratación del servicio de m
END:VALARM
END:VEVENT
END:VCALENDAR