BEGIN:VCALENDAR
VERSION:2.0
PRODID:-//Contratero//ES
CALSCALE:GREGORIAN
METHOD:PUBLISH
BEGIN:VEVENT
UID:A41119033-2022/000031-PeA@contratero.es
DTSTAMP:20260424T015140Z
DTSTART:20220525T235959
DTEND:20220526T005959
SUMMARY:Cierre: Servicios de migración de la herramienta actualmen
DESCRIPTION:Servicios de migración de la herramienta actualmente en servicio para la gestión de incidencias (basada en GLPI 0.80.5) a la última versión estable disponible \, formación y una bolsa de horas\, como mí...\\n\\nOrganismo: Gerencia de la Sociedad Provincial de Informática de Sevilla S.A.U.\\n\\nVer en Contratero: https://contratero.es/contracts/A41119033-2022/000031-PeA
URL:https://contratero.es/contracts/A41119033-2022/000031-PeA
STATUS:CONFIRMED
BEGIN:VALARM
TRIGGER:-P1D
ACTION:DISPLAY
DESCRIPTION:Recordatorio: Servicios de migración de la h
END:VALARM
END:VEVENT
END:VCALENDAR