BEGIN:VCALENDAR
VERSION:2.0
PRODID:-//Contratero//ES
CALSCALE:GREGORIAN
METHOD:PUBLISH
BEGIN:VEVENT
UID:A41119033-2024/000066-PcAB@contratero.es
DTSTAMP:20260423T005729Z
DTSTART:20240813T235959
DTEND:20240814T005959
SUMMARY:Cierre: Suministro de Licencias de un software para anális
DESCRIPTION:Suministro de Licencias de un software para análisis visual de datos\\n\\nOrganismo: Gerencia de la Sociedad Provincial de Informática de Sevilla S.A.U.\\n\\nVer en Contratero: https://contratero.es/contracts/A41119033-2024/000066-PcAB
URL:https://contratero.es/contracts/A41119033-2024/000066-PcAB
STATUS:CONFIRMED
BEGIN:VALARM
TRIGGER:-P1D
ACTION:DISPLAY
DESCRIPTION:Recordatorio: Suministro de Licencias de un 
END:VALARM
END:VEVENT
END:VCALENDAR