BEGIN:VCALENDAR
VERSION:2.0
PRODID:-//Contratero//ES
CALSCALE:GREGORIAN
METHOD:PUBLISH
BEGIN:VEVENT
UID:A41119033-2025/000120-PeA@contratero.es
DTSTAMP:20260423T054206Z
DTSTART:20251226T235959
DTEND:20251227T005959
SUMMARY:Cierre: Servicios de programación en entorno Delphi/Java O
DESCRIPTION:Servicios de programación en entorno Delphi/Java Oracle destinado a los trabajos de desarrollo\, mantenimiento y actualización de diferentes aplicativos informáticos de gestión.\\n\\nOrganismo: Gerencia de la Sociedad Provincial de Informática de Sevilla S.A.U.\\n\\nVer en Contratero: https://contratero.es/contracts/A41119033-2025/000120-PeA
URL:https://contratero.es/contracts/A41119033-2025/000120-PeA
STATUS:CONFIRMED
BEGIN:VALARM
TRIGGER:-P1D
ACTION:DISPLAY
DESCRIPTION:Recordatorio: Servicios de programación en e
END:VALARM
END:VEVENT
END:VCALENDAR