BEGIN:VCALENDAR
VERSION:2.0
PRODID:-//Contratero//ES
CALSCALE:GREGORIAN
METHOD:PUBLISH
BEGIN:VEVENT
UID:A41555749-2023/000420-PcA@contratero.es
DTSTAMP:20260426T004353Z
DTSTART:20230601T235959
DTEND:20230602T005959
SUMMARY:Cierre: El objeto de la contratación es el suministro en a
DESCRIPTION:El objeto de la contratación es el suministro en arrendamiento de licencia del software para realizar copias de seguridad Veritas Essentials BACKUP Exec Silver.\\n\\nOrganismo: Gerencia de PRODETUR S.A.U.\\n\\nVer en Contratero: https://contratero.es/contracts/A41555749-2023/000420-PcA
URL:https://contratero.es/contracts/A41555749-2023/000420-PcA
STATUS:CONFIRMED
BEGIN:VALARM
TRIGGER:-P1D
ACTION:DISPLAY
DESCRIPTION:Recordatorio: El objeto de la contratación e
END:VALARM
END:VEVENT
END:VCALENDAR