BEGIN:VCALENDAR
VERSION:2.0
PRODID:-//Contratero//ES
CALSCALE:GREGORIAN
METHOD:PUBLISH
BEGIN:VEVENT
UID:A41555749-2026/000143-PcAB@contratero.es
DTSTAMP:20260421T103005Z
DTSTART:20260220T235959
DTEND:20260221T005959
SUMMARY:Cierre: suministro por arrendamiento de licencia de teamvi
DESCRIPTION:suministro por arrendamiento de licencia de teamviewer\\n\\nOrganismo: Gerencia de PRODETUR S.A.U.\\n\\nVer en Contratero: https://contratero.es/contracts/A41555749-2026/000143-PcAB
URL:https://contratero.es/contracts/A41555749-2026/000143-PcAB
STATUS:CONFIRMED
BEGIN:VALARM
TRIGGER:-P1D
ACTION:DISPLAY
DESCRIPTION:Recordatorio: suministro por arrendamiento d
END:VALARM
END:VEVENT
END:VCALENDAR