BEGIN:VCALENDAR
VERSION:2.0
PRODID:-//Contratero//ES
CALSCALE:GREGORIAN
METHOD:PUBLISH
BEGIN:VEVENT
UID:A44-1124@contratero.es
DTSTAMP:20260420T213501Z
DTSTART:20241129T235959
DTEND:20241130T005959
SUMMARY:Cierre: Renovación de los servicios de mantenimiento y sop
DESCRIPTION:Renovación de los servicios de mantenimiento y soporte del software Application Manager Enterprise Edition y Operation Manager del fabricante ManageEngine.\\n\\nOrganismo: Jefatura de Unidad de Medios Internos -Área de Compras de la Compañía Española de Seguros de Crédito a la Exportación S.A.\, S.M.E. (CESCE)\\n\\nVer en Contratero: https://contratero.es/contracts/A44-1124
URL:https://contratero.es/contracts/A44-1124
STATUS:CONFIRMED
BEGIN:VALARM
TRIGGER:-P1D
ACTION:DISPLAY
DESCRIPTION:Recordatorio: Renovación de los servicios de
END:VALARM
END:VEVENT
END:VCALENDAR