BEGIN:VCALENDAR
VERSION:2.0
PRODID:-//Contratero//ES
CALSCALE:GREGORIAN
METHOD:PUBLISH
BEGIN:VEVENT
UID:A5O-001/2026@contratero.es
DTSTAMP:20260420T104850Z
DTSTART:20260223T235959
DTEND:20260224T005959
SUMMARY:Cierre: Servicio de implementación de trabajos para la evo
DESCRIPTION:Servicio de implementación de trabajos para la evolución de la Plataforma Smart Costa Blanca V1.0 con financiación de Fondos de la Unión Europea\, en el marco del Plan de Recuperación\, Transformación y...\\n\\nOrganismo: Presidencia de la Diputación Provincial de Alicante\\n\\nVer en Contratero: https://contratero.es/contracts/A5O-001/2026
URL:https://contratero.es/contracts/A5O-001/2026
STATUS:CONFIRMED
BEGIN:VALARM
TRIGGER:-P1D
ACTION:DISPLAY
DESCRIPTION:Recordatorio: Servicio de implementación de 
END:VALARM
END:VEVENT
END:VCALENDAR