BEGIN:VCALENDAR
VERSION:2.0
PRODID:-//Contratero//ES
CALSCALE:GREGORIAN
METHOD:PUBLISH
BEGIN:VEVENT
UID:A5SS-348/2022@contratero.es
DTSTAMP:20260423T075830Z
DTSTART:20221027T235959
DTEND:20221028T005959
SUMMARY:Cierre: Servicios de mantenimiento web de la Plataforma Pr
DESCRIPTION:Servicios de mantenimiento web de la Plataforma Provincial del Voluntariado\\n\\nOrganismo: Presidencia de la Diputación Provincial de Alicante\\n\\nVer en Contratero: https://contratero.es/contracts/A5SS-348/2022
URL:https://contratero.es/contracts/A5SS-348/2022
STATUS:CONFIRMED
BEGIN:VALARM
TRIGGER:-P1D
ACTION:DISPLAY
DESCRIPTION:Recordatorio: Servicios de mantenimiento web
END:VALARM
END:VEVENT
END:VCALENDAR