BEGIN:VCALENDAR
VERSION:2.0
PRODID:-//Contratero//ES
CALSCALE:GREGORIAN
METHOD:PUBLISH
BEGIN:VEVENT
UID:A6O-165/2020@contratero.es
DTSTAMP:20260424T022103Z
DTSTART:20201130T235959
DTEND:20201201T005959
SUMMARY:Cierre: “Servicio de digitalización de Boletines Oficiales
DESCRIPTION:“Servicio de digitalización de Boletines Oficiales de la Provincia de Alicante (BOP) conservados en el Archivo de la Diputación Provincial de Alicante”.\\n\\nOrganismo: Presidencia de la Diputación Provincial de Alicante\\n\\nVer en Contratero: https://contratero.es/contracts/A6O-165/2020
URL:https://contratero.es/contracts/A6O-165/2020
STATUS:CONFIRMED
BEGIN:VALARM
TRIGGER:-P1D
ACTION:DISPLAY
DESCRIPTION:Recordatorio: “Servicio de digitalización de
END:VALARM
END:VEVENT
END:VCALENDAR