BEGIN:VCALENDAR
VERSION:2.0
PRODID:-//Contratero//ES
CALSCALE:GREGORIAN
METHOD:PUBLISH
BEGIN:VEVENT
UID:AA/25@contratero.es
DTSTAMP:20260419T224627Z
DTSTART:20250611T235959
DTEND:20250612T005959
SUMMARY:Cierre: Contratación del servicio de mantenimiento anual d
DESCRIPTION:Contratación del servicio de mantenimiento anual del software PRESTO\\n\\nOrganismo: Empresa Provincial de Informática\, S.A.\\n\\nVer en Contratero: https://contratero.es/contracts/AA/25
URL:https://contratero.es/contracts/AA/25
STATUS:CONFIRMED
BEGIN:VALARM
TRIGGER:-P1D
ACTION:DISPLAY
DESCRIPTION:Recordatorio: Contratación del servicio de m
END:VALARM
END:VEVENT
END:VCALENDAR