BEGIN:VCALENDAR
VERSION:2.0
PRODID:-//Contratero//ES
CALSCALE:GREGORIAN
METHOD:PUBLISH
BEGIN:VEVENT
UID:AB17/2025@contratero.es
DTSTAMP:20260422T014657Z
DTSTART:20260205T235959
DTEND:20260206T005959
SUMMARY:Cierre: Adquisición de los derechos de uso de PRIVATE CLOU
DESCRIPTION:Adquisición de los derechos de uso de PRIVATE CLOUD  para la Universidad Internacional de Andalucía.\\n\\nOrganismo: Rectorado de la Universidad Internacional de Andalucía\\n\\nVer en Contratero: https://contratero.es/contracts/AB17/2025
URL:https://contratero.es/contracts/AB17/2025
STATUS:CONFIRMED
BEGIN:VALARM
TRIGGER:-P1D
ACTION:DISPLAY
DESCRIPTION:Recordatorio: Adquisición de los derechos de
END:VALARM
END:VEVENT
END:VCALENDAR