BEGIN:VCALENDAR
VERSION:2.0
PRODID:-//Contratero//ES
CALSCALE:GREGORIAN
METHOD:PUBLISH
BEGIN:VEVENT
UID:ABR_SMPL/SERV/2025000040@contratero.es
DTSTAMP:20260425T213554Z
DTSTART:20250910T235959
DTEND:20250911T005959
SUMMARY:Cierre: Contratación del servicio de creación e instalació
DESCRIPTION:Contratación del servicio de creación e instalación de la Experiencia Virtual Inmersiva: Bodegas subterráneas y Aranda en 1503 incluida en el Plan de Sostenibilidad Turística en Destino Aranda Ciudad ...\\n\\nOrganismo: Alcaldía del Ayuntamiento de Aranda de Duero\\n\\nVer en Contratero: https://contratero.es/contracts/ABR_SMPL/SERV/2025000040
URL:https://contratero.es/contracts/ABR_SMPL/SERV/2025000040
STATUS:CONFIRMED
BEGIN:VALARM
TRIGGER:-P1D
ACTION:DISPLAY
DESCRIPTION:Recordatorio: Contratación del servicio de c
END:VALARM
END:VEVENT
END:VCALENDAR