BEGIN:VCALENDAR
VERSION:2.0
PRODID:-//Contratero//ES
CALSCALE:GREGORIAN
METHOD:PUBLISH
BEGIN:VEVENT
UID:ABR_SP_SMPL-2024000052@contratero.es
DTSTAMP:20260420T115406Z
DTSTART:20240912T235959
DTEND:20240913T005959
SUMMARY:Cierre: Gestión y venta de entradas para espectáculos del 
DESCRIPTION:Gestión y venta de entradas para espectáculos del Centro de Artes Escénicas.\\n\\nOrganismo: Concejalía de Personal y Contratación del Ayuntamiento de Torre Pacheco\\n\\nVer en Contratero: https://contratero.es/contracts/ABR_SP_SMPL-2024000052
URL:https://contratero.es/contracts/ABR_SP_SMPL-2024000052
STATUS:CONFIRMED
BEGIN:VALARM
TRIGGER:-P1D
ACTION:DISPLAY
DESCRIPTION:Recordatorio: Gestión y venta de entradas pa
END:VALARM
END:VEVENT
END:VCALENDAR