BEGIN:VCALENDAR
VERSION:2.0
PRODID:-//Contratero//ES
CALSCALE:GREGORIAN
METHOD:PUBLISH
BEGIN:VEVENT
UID:ACE/0623.6/23/SPRI/06@contratero.es
DTSTAMP:20260423T150732Z
DTSTART:20230331T235959
DTEND:20230401T005959
SUMMARY:Cierre: Servicios de adquisición e implantación de un sist
DESCRIPTION:Servicios de adquisición e implantación de un sistema de gestión documental para el archivo electrónico de documentos en ACUAES\\n\\nOrganismo: Consejo de Administración de Sociedad Mercantil Estatal Aguas de las Cuencas de España\, S.A. (ACUAES)\\n\\nVer en Contratero: https://contratero.es/contracts/ACE/0623.6/23/SPRI/06
URL:https://contratero.es/contracts/ACE/0623.6/23/SPRI/06
STATUS:CONFIRMED
BEGIN:VALARM
TRIGGER:-P1D
ACTION:DISPLAY
DESCRIPTION:Recordatorio: Servicios de adquisición e imp
END:VALARM
END:VEVENT
END:VCALENDAR