BEGIN:VCALENDAR
VERSION:2.0
PRODID:-//Contratero//ES
CALSCALE:GREGORIAN
METHOD:PUBLISH
BEGIN:VEVENT
UID:AG/04/21@contratero.es
DTSTAMP:20260419T163710Z
DTSTART:20210602T235959
DTEND:20210603T005959
SUMMARY:Cierre: Servicios profesionales de consultoría en privacid
DESCRIPTION:Servicios profesionales de consultoría en privacidad y protección de datos personales y externalización del delegado de protección de datos (DPD) para la Agencia Extremeña de la Energía\\n\\nOrganismo: Dirección de la Agencia Extremeña de la Energía (AGENEX)\\n\\nVer en Contratero: https://contratero.es/contracts/AG/04/21
URL:https://contratero.es/contracts/AG/04/21
STATUS:CONFIRMED
BEGIN:VALARM
TRIGGER:-P1D
ACTION:DISPLAY
DESCRIPTION:Recordatorio: Servicios profesionales de con
END:VALARM
END:VEVENT
END:VCALENDAR