BEGIN:VCALENDAR
VERSION:2.0
PRODID:-//Contratero//ES
CALSCALE:GREGORIAN
METHOD:PUBLISH
BEGIN:VEVENT
UID:AI250009@contratero.es
DTSTAMP:20260421T234212Z
DTSTART:20250702T235959
DTEND:20250703T005959
SUMMARY:Cierre: Contratación de los servicios Service Desk\, soport
DESCRIPTION:Contratación de los servicios Service Desk\, soporte Workplace y Soporte IT a Clientes Externos (SITCE) para la Sociedad Estatal de Correos y Telégrafos S.A. S.M.E (en adelante Correos). y Correos Expr...\\n\\nOrganismo: Consejo de Administración-Comité de Inversiones de la Sociedad Estatal Correos y Telégrafos S.A\\n\\nVer en Contratero: https://contratero.es/contracts/AI250009
URL:https://contratero.es/contracts/AI250009
STATUS:CONFIRMED
BEGIN:VALARM
TRIGGER:-P1D
ACTION:DISPLAY
DESCRIPTION:Recordatorio: Contratación de los servicios 
END:VALARM
END:VEVENT
END:VCALENDAR