BEGIN:VCALENDAR
VERSION:2.0
PRODID:-//Contratero//ES
CALSCALE:GREGORIAN
METHOD:PUBLISH
BEGIN:VEVENT
UID:ALC0167@contratero.es
DTSTAMP:20260423T162745Z
DTSTART:20220804T235959
DTEND:20220805T005959
SUMMARY:Cierre: Mantenimiento aplicación informática del archivo d
DESCRIPTION:Mantenimiento aplicación informática del archivo del Ayuntamiento.\\n\\nOrganismo: Alcaldía del Ayuntamiento de Illescas\\n\\nVer en Contratero: https://contratero.es/contracts/ALC0167
URL:https://contratero.es/contracts/ALC0167
STATUS:CONFIRMED
BEGIN:VALARM
TRIGGER:-P1D
ACTION:DISPLAY
DESCRIPTION:Recordatorio: Mantenimiento aplicación infor
END:VALARM
END:VEVENT
END:VCALENDAR