BEGIN:VCALENDAR
VERSION:2.0
PRODID:-//Contratero//ES
CALSCALE:GREGORIAN
METHOD:PUBLISH
BEGIN:VEVENT
UID:ALC0331@contratero.es
DTSTAMP:20260419T143435Z
DTSTART:20250401T235959
DTEND:20250402T005959
SUMMARY:Cierre: Consultoría - Actualización permanente del sistema
DESCRIPTION:Consultoría - Actualización permanente del sistema de protección de datos de carácter personal y registro de actividades de tratamiento del Ayuntamiento de Illescas\\n\\nOrganismo: Alcaldía del Ayuntamiento de Illescas\\n\\nVer en Contratero: https://contratero.es/contracts/ALC0331
URL:https://contratero.es/contracts/ALC0331
STATUS:CONFIRMED
BEGIN:VALARM
TRIGGER:-P1D
ACTION:DISPLAY
DESCRIPTION:Recordatorio: Consultoría - Actualización pe
END:VALARM
END:VEVENT
END:VCALENDAR