BEGIN:VCALENDAR
VERSION:2.0
PRODID:-//Contratero//ES
CALSCALE:GREGORIAN
METHOD:PUBLISH
BEGIN:VEVENT
UID:AM/2026/00100002@contratero.es
DTSTAMP:20260420T065411Z
DTSTART:20260301T235959
DTEND:20260302T005959
SUMMARY:Cierre: Derecho de despliegue ilimitado de productos de Or
DESCRIPTION:Derecho de despliegue ilimitado de productos de Oracle para la Universidad Complutense de Madrid.\\n\\nOrganismo: Rectorado de la Universidad Complutense de Madrid\\n\\nVer en Contratero: https://contratero.es/contracts/AM/2026/00100002
URL:https://contratero.es/contracts/AM/2026/00100002
STATUS:CONFIRMED
BEGIN:VALARM
TRIGGER:-P1D
ACTION:DISPLAY
DESCRIPTION:Recordatorio: Derecho de despliegue ilimitad
END:VALARM
END:VEVENT
END:VCALENDAR