BEGIN:VCALENDAR
VERSION:2.0
PRODID:-//Contratero//ES
CALSCALE:GREGORIAN
METHOD:PUBLISH
BEGIN:VEVENT
UID:AMCCD_22_002@contratero.es
DTSTAMP:20260423T135616Z
DTSTART:20220831T235959
DTEND:20220901T005959
SUMMARY:Cierre: Implantación y soporte\, en modalidad SAAS\, del sof
DESCRIPTION:Implantación y soporte\, en modalidad SAAS\, del software APM Dynatrance\\n\\nOrganismo: Entidad Pública Aragonesa de Servicios Telemáticos\\n\\nVer en Contratero: https://contratero.es/contracts/AMCCD_22_002
URL:https://contratero.es/contracts/AMCCD_22_002
STATUS:CONFIRMED
BEGIN:VALARM
TRIGGER:-P1D
ACTION:DISPLAY
DESCRIPTION:Recordatorio: Implantación y soporte\, en mod
END:VALARM
END:VEVENT
END:VCALENDAR