BEGIN:VCALENDAR
VERSION:2.0
PRODID:-//Contratero//ES
CALSCALE:GREGORIAN
METHOD:PUBLISH
BEGIN:VEVENT
UID:AO-SV-1371/22@contratero.es
DTSTAMP:20260424T031420Z
DTSTART:20220408T235959
DTEND:20220409T005959
SUMMARY:Cierre: Servicio de desarrollo\, alojamiento\, posicionamien
DESCRIPTION:Servicio de desarrollo\, alojamiento\, posicionamiento y mantenimiento de la web corporativa de Expo Zaragoza Empresarial\\n\\nOrganismo: Expo Zaragoza Empresarial\, S.A.\\n\\nVer en Contratero: https://contratero.es/contracts/AO-SV-1371/22
URL:https://contratero.es/contracts/AO-SV-1371/22
STATUS:CONFIRMED
BEGIN:VALARM
TRIGGER:-P1D
ACTION:DISPLAY
DESCRIPTION:Recordatorio: Servicio de desarrollo\, alojam
END:VALARM
END:VEVENT
END:VCALENDAR