BEGIN:VCALENDAR
VERSION:2.0
PRODID:-//Contratero//ES
CALSCALE:GREGORIAN
METHOD:PUBLISH
BEGIN:VEVENT
UID:AS0042018@contratero.es
DTSTAMP:20260421T223019Z
DTSTART:20181114T235959
DTEND:20181115T005959
SUMMARY:Cierre: servicios de alojamiento web hosting  Servidores v
DESCRIPTION:servicios de alojamiento web hosting  Servidores virtuales portal red de telecentros cantabriasi y plataforma e-learning\\n\\nOrganismo: Fundación CTL Cantabria\\n\\nVer en Contratero: https://contratero.es/contracts/AS0042018
URL:https://contratero.es/contracts/AS0042018
STATUS:CONFIRMED
BEGIN:VALARM
TRIGGER:-P1D
ACTION:DISPLAY
DESCRIPTION:Recordatorio: servicios de alojamiento web h
END:VALARM
END:VEVENT
END:VCALENDAR