BEGIN:VCALENDAR
VERSION:2.0
PRODID:-//Contratero//ES
CALSCALE:GREGORIAN
METHOD:PUBLISH
BEGIN:VEVENT
UID:AS092023@contratero.es
DTSTAMP:20260420T090048Z
DTSTART:20231115T235959
DTEND:20231116T005959
SUMMARY:Cierre: "Gestión  de dominios de internet y webmail"
DESCRIPTION:"Gestión  de dominios de internet y webmail"\\n\\nOrganismo: Dirección de la Fundación CTL Cantabria\\n\\nVer en Contratero: https://contratero.es/contracts/AS092023
URL:https://contratero.es/contracts/AS092023
STATUS:CONFIRMED
BEGIN:VALARM
TRIGGER:-P1D
ACTION:DISPLAY
DESCRIPTION:Recordatorio: "Gestión  de dominios de inter
END:VALARM
END:VEVENT
END:VCALENDAR