BEGIN:VCALENDAR
VERSION:2.0
PRODID:-//Contratero//ES
CALSCALE:GREGORIAN
METHOD:PUBLISH
BEGIN:VEVENT
UID:AS1/2021@contratero.es
DTSTAMP:20260423T032331Z
DTSTART:20210706T235959
DTEND:20210707T005959
SUMMARY:Cierre: Mantenimiento de infraestructura informática y de 
DESCRIPTION:Mantenimiento de infraestructura informática y de comunicaciones\, páginas web y de Plataforma Interna de Gestión.\\n\\nOrganismo: Presidencia del Grupo para el Desarrollo Rural de la Subbética Cordobesa\\n\\nVer en Contratero: https://contratero.es/contracts/AS1/2021
URL:https://contratero.es/contracts/AS1/2021
STATUS:CONFIRMED
BEGIN:VALARM
TRIGGER:-P1D
ACTION:DISPLAY
DESCRIPTION:Recordatorio: Mantenimiento de infraestructu
END:VALARM
END:VEVENT
END:VCALENDAR