BEGIN:VCALENDAR
VERSION:2.0
PRODID:-//Contratero//ES
CALSCALE:GREGORIAN
METHOD:PUBLISH
BEGIN:VEVENT
UID:ASE/2018/091@contratero.es
DTSTAMP:20260425T225820Z
DTSTART:20181019T235959
DTEND:20181020T005959
SUMMARY:Cierre: Asistencia técnica para la recepción y tratamiento
DESCRIPTION:Asistencia técnica para la recepción y tratamiento de la información valorable en la fase de concurso para el ingreso en los Cuerpos de Funcionarios de la Administración de Justicia derivadas  e la Of...\\n\\nOrganismo: Junta de Contratación del Ministerio de Justicia\\n\\nVer en Contratero: https://contratero.es/contracts/ASE/2018/091
URL:https://contratero.es/contracts/ASE/2018/091
STATUS:CONFIRMED
BEGIN:VALARM
TRIGGER:-P1D
ACTION:DISPLAY
DESCRIPTION:Recordatorio: Asistencia técnica para la rec
END:VALARM
END:VEVENT
END:VCALENDAR