BEGIN:VCALENDAR
VERSION:2.0
PRODID:-//Contratero//ES
CALSCALE:GREGORIAN
METHOD:PUBLISH
BEGIN:VEVENT
UID:ASE/2025/045@contratero.es
DTSTAMP:20260422T194256Z
DTSTART:20250505T235959
DTEND:20250506T005959
SUMMARY:Cierre: Renovación del soporte de los sistemas de almacena
DESCRIPTION:Renovación del soporte de los sistemas de almacenamiento del fabricante NetApp de la Dirección General de Transformación Digital.\\n\\nOrganismo: Junta de Contratación de la Secretaría de Estado de Justicia\\n\\nVer en Contratero: https://contratero.es/contracts/ASE/2025/045
URL:https://contratero.es/contracts/ASE/2025/045
STATUS:CONFIRMED
BEGIN:VALARM
TRIGGER:-P1D
ACTION:DISPLAY
DESCRIPTION:Recordatorio: Renovación del soporte de los 
END:VALARM
END:VEVENT
END:VCALENDAR