BEGIN:VCALENDAR
VERSION:2.0
PRODID:-//Contratero//ES
CALSCALE:GREGORIAN
METHOD:PUBLISH
BEGIN:VEVENT
UID:AST-2025-20014@contratero.es
DTSTAMP:20260424T083602Z
DTSTART:20250310T235959
DTEND:20250311T005959
SUMMARY:Cierre: Servicio de recursos técnicos para la puesta en ma
DESCRIPTION:Servicio de recursos técnicos para la puesta en marcha de la estación clínica de atención primaria en los sectores de Alcañíz y Teruel\\n\\nOrganismo: Entidad Pública Aragonesa de Servicios Telemáticos\\n\\nVer en Contratero: https://contratero.es/contracts/AST-2025-20014
URL:https://contratero.es/contracts/AST-2025-20014
STATUS:CONFIRMED
BEGIN:VALARM
TRIGGER:-P1D
ACTION:DISPLAY
DESCRIPTION:Recordatorio: Servicio de recursos técnicos 
END:VALARM
END:VEVENT
END:VCALENDAR