BEGIN:VCALENDAR
VERSION:2.0
PRODID:-//Contratero//ES
CALSCALE:GREGORIAN
METHOD:PUBLISH
BEGIN:VEVENT
UID:AST-2025-50027-AMDCDL5_11@contratero.es
DTSTAMP:20260426T035228Z
DTSTART:20251119T235959
DTEND:20251120T005959
SUMMARY:Cierre: Desarrollo e implementación de proyectos de analít
DESCRIPTION:Desarrollo e implementación de proyectos de analítica de datos sobre las nuevas herramientas corporativas del SALUD\\n\\nOrganismo: Entidad Pública Aragonesa de Servicios Telemáticos\\n\\nVer en Contratero: https://contratero.es/contracts/AST-2025-50027-AMDCDL5_11
URL:https://contratero.es/contracts/AST-2025-50027-AMDCDL5_11
STATUS:CONFIRMED
BEGIN:VALARM
TRIGGER:-P1D
ACTION:DISPLAY
DESCRIPTION:Recordatorio: Desarrollo e implementación de
END:VALARM
END:VEVENT
END:VCALENDAR