BEGIN:VCALENDAR
VERSION:2.0
PRODID:-//Contratero//ES
CALSCALE:GREGORIAN
METHOD:PUBLISH
BEGIN:VEVENT
UID:AST-2026-50002-AMSECCD2@contratero.es
DTSTAMP:20260423T050740Z
DTSTART:20251201T235959
DTEND:20251202T005959
SUMMARY:Cierre: 750 Licencias Guardicore
DESCRIPTION:750 Licencias Guardicore\\n\\nOrganismo: Entidad Pública Aragonesa de Servicios Telemáticos\\n\\nVer en Contratero: https://contratero.es/contracts/AST-2026-50002-AMSECCD2
URL:https://contratero.es/contracts/AST-2026-50002-AMSECCD2
STATUS:CONFIRMED
BEGIN:VALARM
TRIGGER:-P1D
ACTION:DISPLAY
DESCRIPTION:Recordatorio: 750 Licencias Guardicore
END:VALARM
END:VEVENT
END:VCALENDAR