BEGIN:VCALENDAR
VERSION:2.0
PRODID:-//Contratero//ES
CALSCALE:GREGORIAN
METHOD:PUBLISH
BEGIN:VEVENT
UID:AST_2021_005@contratero.es
DTSTAMP:20260421T094050Z
DTSTART:20210127T235959
DTEND:20210128T005959
SUMMARY:Cierre: Acuerdo Marco para la contratación de servicios re
DESCRIPTION:Acuerdo Marco para la contratación de servicios relacionados con el desarrollo\, soporte y mantenimiento de aplicaciones informáticas con destino a los Departamentos de la Administración de la Comunida...\\n\\nOrganismo: Entidad Pública Aragonesa de Servicios Telemáticos\\n\\nVer en Contratero: https://contratero.es/contracts/AST_2021_005
URL:https://contratero.es/contracts/AST_2021_005
STATUS:CONFIRMED
BEGIN:VALARM
TRIGGER:-P1D
ACTION:DISPLAY
DESCRIPTION:Recordatorio: Acuerdo Marco para la contrata
END:VALARM
END:VEVENT
END:VCALENDAR