BEGIN:VCALENDAR
VERSION:2.0
PRODID:-//Contratero//ES
CALSCALE:GREGORIAN
METHOD:PUBLISH
BEGIN:VEVENT
UID:AST_2022_022@contratero.es
DTSTAMP:20260424T001407Z
DTSTART:20220829T235959
DTEND:20220830T005959
SUMMARY:Cierre: Aumento de la capacidad de la infraestructura IT
DESCRIPTION:Aumento de la capacidad de la infraestructura IT\\n\\nOrganismo: Entidad Pública Aragonesa de Servicios Telemáticos\\n\\nVer en Contratero: https://contratero.es/contracts/AST_2022_022
URL:https://contratero.es/contracts/AST_2022_022
STATUS:CONFIRMED
BEGIN:VALARM
TRIGGER:-P1D
ACTION:DISPLAY
DESCRIPTION:Recordatorio: Aumento de la capacidad de la 
END:VALARM
END:VEVENT
END:VCALENDAR