BEGIN:VCALENDAR
VERSION:2.0
PRODID:-//Contratero//ES
CALSCALE:GREGORIAN
METHOD:PUBLISH
BEGIN:VEVENT
UID:AST_2022_030@contratero.es
DTSTAMP:20260423T224314Z
DTSTART:20220926T235959
DTEND:20220927T005959
SUMMARY:Cierre: Adquisición y actualización de licencias de despli
DESCRIPTION:Adquisición y actualización de licencias de despliegue ilimitado de productos del fabricante ORACLE\\n\\nOrganismo: Entidad Pública Aragonesa de Servicios Telemáticos\\n\\nVer en Contratero: https://contratero.es/contracts/AST_2022_030
URL:https://contratero.es/contracts/AST_2022_030
STATUS:CONFIRMED
BEGIN:VALARM
TRIGGER:-P1D
ACTION:DISPLAY
DESCRIPTION:Recordatorio: Adquisición y actualización de
END:VALARM
END:VEVENT
END:VCALENDAR