BEGIN:VCALENDAR
VERSION:2.0
PRODID:-//Contratero//ES
CALSCALE:GREGORIAN
METHOD:PUBLISH
BEGIN:VEVENT
UID:AST_2024_5@contratero.es
DTSTAMP:20260422T194255Z
DTSTART:20240108T235959
DTEND:20240109T005959
SUMMARY:Cierre: Cesión de uso y actualización de licencias y produ
DESCRIPTION:Cesión de uso y actualización de licencias y productos Microsoft para el Gobierno de Aragón y los Organismos Públicos Dependientes\\n\\nOrganismo: Entidad Pública Aragonesa de Servicios Telemáticos\\n\\nVer en Contratero: https://contratero.es/contracts/AST_2024_5
URL:https://contratero.es/contracts/AST_2024_5
STATUS:CONFIRMED
BEGIN:VALARM
TRIGGER:-P1D
ACTION:DISPLAY
DESCRIPTION:Recordatorio: Cesión de uso y actualización 
END:VALARM
END:VEVENT
END:VCALENDAR