BEGIN:VCALENDAR
VERSION:2.0
PRODID:-//Contratero//ES
CALSCALE:GREGORIAN
METHOD:PUBLISH
BEGIN:VEVENT
UID:AST_2024_AMSECCD6@contratero.es
DTSTAMP:20260424T203557Z
DTSTART:20241212T235959
DTEND:20241213T005959
SUMMARY:Cierre: Evolución y mejora de solución integral de SIEM IB
DESCRIPTION:Evolución y mejora de solución integral de SIEM IBM QRADAR\\n\\nOrganismo: Entidad Pública Aragonesa de Servicios Telemáticos\\n\\nVer en Contratero: https://contratero.es/contracts/AST_2024_AMSECCD6
URL:https://contratero.es/contracts/AST_2024_AMSECCD6
STATUS:CONFIRMED
BEGIN:VALARM
TRIGGER:-P1D
ACTION:DISPLAY
DESCRIPTION:Recordatorio: Evolución y mejora de solución
END:VALARM
END:VEVENT
END:VCALENDAR