BEGIN:VCALENDAR
VERSION:2.0
PRODID:-//Contratero//ES
CALSCALE:GREGORIAN
METHOD:PUBLISH
BEGIN:VEVENT
UID:AST_2025_AMNHL4_1@contratero.es
DTSTAMP:20260424T101056Z
DTSTART:20250114T235959
DTEND:20250115T005959
SUMMARY:Cierre: Mejora y ampliación de las capacidades de Backup y
DESCRIPTION:Mejora y ampliación de las capacidades de Backup y recuperación\\n\\nOrganismo: Entidad Pública Aragonesa de Servicios Telemáticos\\n\\nVer en Contratero: https://contratero.es/contracts/AST_2025_AMNHL4_1
URL:https://contratero.es/contracts/AST_2025_AMNHL4_1
STATUS:CONFIRMED
BEGIN:VALARM
TRIGGER:-P1D
ACTION:DISPLAY
DESCRIPTION:Recordatorio: Mejora y ampliación de las cap
END:VALARM
END:VEVENT
END:VCALENDAR