BEGIN:VCALENDAR
VERSION:2.0
PRODID:-//Contratero//ES
CALSCALE:GREGORIAN
METHOD:PUBLISH
BEGIN:VEVENT
UID:ASU/2022/226@contratero.es
DTSTAMP:20260423T113637Z
DTSTART:20230328T235959
DTEND:20230329T005959
SUMMARY:Cierre: Renovación de suscripciones de las licencias de so
DESCRIPTION:Renovación de suscripciones de las licencias de software para la gestión de portales en el ámbito de la Subdirección General de Calidad de los Servicios Digitales\, Ciberseguridad y Operaciones\\n\\nOrganismo: Junta de Contratación del Ministerio de Justicia\\n\\nVer en Contratero: https://contratero.es/contracts/ASU/2022/226
URL:https://contratero.es/contracts/ASU/2022/226
STATUS:CONFIRMED
BEGIN:VALARM
TRIGGER:-P1D
ACTION:DISPLAY
DESCRIPTION:Recordatorio: Renovación de suscripciones de
END:VALARM
END:VEVENT
END:VCALENDAR