BEGIN:VCALENDAR
VERSION:2.0
PRODID:-//Contratero//ES
CALSCALE:GREGORIAN
METHOD:PUBLISH
BEGIN:VEVENT
UID:AVM.SUM-2026000001@contratero.es
DTSTAMP:20260419T224906Z
DTSTART:20260331T235959
DTEND:20260401T005959
SUMMARY:Cierre: Sistema de información geográfica para explotación
DESCRIPTION:Sistema de información geográfica para explotación de información turística\, en el marco del Plan de Recuperación\, Transformación y Resiliencia - Financiado por la Unión Europea – Next GenerationEU\\n\\nOrganismo: Junta de Gobierno del Ayuntamiento de Vélez-Málaga\\n\\nVer en Contratero: https://contratero.es/contracts/AVM.SUM-2026000001
URL:https://contratero.es/contracts/AVM.SUM-2026000001
STATUS:CONFIRMED
BEGIN:VALARM
TRIGGER:-P1D
ACTION:DISPLAY
DESCRIPTION:Recordatorio: Sistema de información geográf
END:VALARM
END:VEVENT
END:VCALENDAR