BEGIN:VCALENDAR
VERSION:2.0
PRODID:-//Contratero//ES
CALSCALE:GREGORIAN
METHOD:PUBLISH
BEGIN:VEVENT
UID:AYAL-2024000023@contratero.es
DTSTAMP:20260425T174118Z
DTSTART:20240530T235959
DTEND:20240531T005959
SUMMARY:Cierre: Servicios taquilla online plurianual
DESCRIPTION:Servicios taquilla online plurianual\\n\\nOrganismo: Junta de Gobierno del Ayuntamiento de Almería\\n\\nVer en Contratero: https://contratero.es/contracts/AYAL-2024000023
URL:https://contratero.es/contracts/AYAL-2024000023
STATUS:CONFIRMED
BEGIN:VALARM
TRIGGER:-P1D
ACTION:DISPLAY
DESCRIPTION:Recordatorio: Servicios taquilla online plur
END:VALARM
END:VEVENT
END:VCALENDAR