BEGIN:VCALENDAR
VERSION:2.0
PRODID:-//Contratero//ES
CALSCALE:GREGORIAN
METHOD:PUBLISH
BEGIN:VEVENT
UID:AYT/4396/2025@contratero.es
DTSTAMP:20260423T165826Z
DTSTART:20250812T235959
DTEND:20250813T005959
SUMMARY:Cierre: Servicios de ampliación del proyecto: Visión de an
DESCRIPTION:Servicios de ampliación del proyecto: Visión de análisis de datos del actual observatorio socioeconómico en el que se incluyan nuevos apartados de turismo\, movilidad y sostenibilidad\, cofinanciado con...\\n\\nOrganismo: Alcaldía del Ayuntamiento de Avilés\\n\\nVer en Contratero: https://contratero.es/contracts/AYT/4396/2025
URL:https://contratero.es/contracts/AYT/4396/2025
STATUS:CONFIRMED
BEGIN:VALARM
TRIGGER:-P1D
ACTION:DISPLAY
DESCRIPTION:Recordatorio: Servicios de ampliación del pr
END:VALARM
END:VEVENT
END:VCALENDAR